BEGIN:VCALENDAR
VERSION:2.0
PRODID:-//Women in STEM Leadership - ECPv6.15.20//NONSGML v1.0//EN
CALSCALE:GREGORIAN
METHOD:PUBLISH
X-ORIGINAL-URL:https://womeninstemleadership.org
X-WR-CALDESC:Events for Women in STEM Leadership
REFRESH-INTERVAL;VALUE=DURATION:PT1H
X-Robots-Tag:noindex
X-PUBLISHED-TTL:PT1H
BEGIN:VTIMEZONE
TZID:UTC
BEGIN:STANDARD
TZOFFSETFROM:+0000
TZOFFSETTO:+0000
TZNAME:UTC
DTSTART:20220101T000000
END:STANDARD
END:VTIMEZONE
BEGIN:VEVENT
DTSTART;TZID=UTC:20230419T190000
DTEND;TZID=UTC:20230419T203000
DTSTAMP:20260426T031006
CREATED:20230404T080801Z
LAST-MODIFIED:20230404T080801Z
UID:2792-1681930800-1681936200@womeninstemleadership.org
SUMMARY:Aya Leadership / Women in STEM Leadership (WISL) Workshop Series: Navigating Barriers to Leadership
DESCRIPTION:About Presenter: \nDr Susan McGinty: Biography \nDr Susan McGinty is an award-winning scientist and highly regarded leader and leadership coach\, with 25 years’ experience in STEM\, Defence and National Security\, who is inspired to transform the profile of leadership for women in STEM- and security-related organisations. \nSusan has a PhD in Medicinal & Organic Chemistry and a Master of Leadership. Following over ten years in research\, Susan spent 14 years (12 of those in leadership positions) in Defence and National Security leading a range of specialised scientific and technical teams\, managing key international Defence and national security partnerships and advising on key Defence domestic and international strategic\, operational and scientific policies. \nInspired by the challenges of her own leadership journey\, Susan is passionate about increasing gender diversity in STEM and security leadership. As the Founder and Director of Aya Leadership\, she works with women in these professions to master their leadership purpose\, skills and experience through education\, resources and coaching. She also works with organisations to develop strategies and deliver training to ensure they have the leaders they need now and into the future. Susan understands the challenges women in STEM and security- related professions can experience on their leadership journey\, and delivers practical\, actionable strategies that makes a real difference. \nSusan has fifteen years’ experience in adult education\, coaching and mentoring in the university\, research\, corporate\, government and community sectors. She is an author\, speaker\, certified coach\, certified NLP Practitioner and is accredited in the MSCEIT Emotional Intelligence Test and Strengths Profile assessment. \nSusan was identified by The Australian Business Journal as one of the 20 Australian leadership experts to watch in 2021. She is a strategic partner of the Australian Women in Security Network and an Executive Member of Women in STEM Leadership.
URL:https://womeninstemleadership.org/events/aya-leadership-women-in-stem-leadership-wisl-workshop-series-navigating-barriers-to-leadership/
LOCATION:Dallas\, TX
END:VEVENT
END:VCALENDAR