BEGIN:VCALENDAR
VERSION:2.0
PRODID:-//Women in STEM Leadership - ECPv6.15.20//NONSGML v1.0//EN
CALSCALE:GREGORIAN
METHOD:PUBLISH
X-WR-CALNAME:Women in STEM Leadership
X-ORIGINAL-URL:https://womeninstemleadership.org
X-WR-CALDESC:Events for Women in STEM Leadership
REFRESH-INTERVAL;VALUE=DURATION:PT1H
X-Robots-Tag:noindex
X-PUBLISHED-TTL:PT1H
BEGIN:VTIMEZONE
TZID:UTC
BEGIN:STANDARD
TZOFFSETFROM:+0000
TZOFFSETTO:+0000
TZNAME:UTC
DTSTART:20250101T000000
END:STANDARD
END:VTIMEZONE
BEGIN:VEVENT
DTSTART;TZID=UTC:20260911T150000
DTEND;TZID=UTC:20260911T163000
DTSTAMP:20260426T043442
CREATED:20250214T054801Z
LAST-MODIFIED:20250503T022927Z
UID:4726-1789138800-1789144200@womeninstemleadership.org
SUMMARY:Expand Your Leadership Impact Masterclass
DESCRIPTION:📅 Date: Friday\, September 11\, 2026 📍\nLocation: The University of Dallas\, 1845 E Northgate Dr\, Irving\, TX 75062 \nA 90 minutes  Masterclass for female STEM leaders focused on strategies and tools to unlock confident and authentic leadership.\n\n\n\nUsing a coaching foundation\, this Masterclass will provide female STEM leaders with knowledge and growth in:\n\nLeading with authenticity: applying your values\, purpose and strengths\nAmplifying inherent female leadership traits\nExpanding their voice\, visibility and influence\nUnderstanding protective factors for female STEM leaders and how to apply them\nApplying resilience and wellbeing strategies to their busy life\nHow to leverage leadership development via a research-informed model of leadership development for women in STEM\n\nThrough an interactive approach\, the workshop will also assist participants to learn from their peers and build peer networks.\n\nDon’t miss out on this incredible event! Registration  opens in February 2026. \nWorkshop is offered by: \nDr. Susan McGinty\, PHDFounder & CEO at AYA Leadership\n \nDr Susan McGinty is the CEO and Founder of Aya Leadership\, a specialized leadership development partner for STEM and Security organizations that priorities diversity. Susan works with organizations to uplift women into leadership roles\, and develop sustainable and diverse leadership pipelines as a foundation for business sustainability\, growth\, and innovation. She works with leaders globally to strengthen their leadership skills and develop high‑performing and resilient\nteams and organizations. \nAya Leadership has a range of leadership development options specifically tailored for STEM women at all levels\, and a range of gender inclusive leadership workshops for STEM leaders\, that can be delivered either online or in person. To discuss your organization’s leadership development needs and enquire about workshop availability during 2025\, please get in touch with Susan at susan@ayaleadership.com or visit her website at https://ayaleadership.com/
URL:https://womeninstemleadership.org/events/expand-your-leadership-impact-masterclass/
LOCATION:University of Dallas SB Hall\, 2925 Gorman Drive\, Irving\, TX\, 75062\, United States
ATTACH;FMTTYPE=image/jpeg:https://womeninstemleadership.org/wp-content/uploads/2025/02/Speakers-Group-.jpg
END:VEVENT
END:VCALENDAR