BEGIN:VCALENDAR
VERSION:2.0
PRODID:-//Women in STEM Leadership - ECPv6.15.20//NONSGML v1.0//EN
CALSCALE:GREGORIAN
METHOD:PUBLISH
X-ORIGINAL-URL:https://womeninstemleadership.org
X-WR-CALDESC:Events for Women in STEM Leadership
REFRESH-INTERVAL;VALUE=DURATION:PT1H
X-Robots-Tag:noindex
X-PUBLISHED-TTL:PT1H
BEGIN:VTIMEZONE
TZID:UTC
BEGIN:STANDARD
TZOFFSETFROM:+0000
TZOFFSETTO:+0000
TZNAME:UTC
DTSTART:20230101T000000
END:STANDARD
END:VTIMEZONE
BEGIN:VEVENT
DTSTART;TZID=UTC:20240221T173000
DTEND;TZID=UTC:20240221T193000
DTSTAMP:20260425T152053
CREATED:20240129T102035Z
LAST-MODIFIED:20240131T074832Z
UID:4447-1708536600-1708543800@womeninstemleadership.org
SUMMARY:Women in STEM Leadership Networking Social Mixer
DESCRIPTION:Join us for an exciting evening of networking\, inspiration\, and empowerment at the Women in STEM Leadership Networking Social Mixer! \nThis in-person event will be held at Ruth’s Chris Steak House\, located at 3285 Peachtree Road Northeast\, Buckhead\, Atlanta\, GA\, USA. \nConnect with like-minded women in the fields of science\, technology\, engineering\, and mathematics\, and build valuable relationships that will help you excel in your career. Don’t miss this opportunity to meet and mingle with influential women leaders in the STEM community. Come prepared to share your experiences\, gain insights\, and leave feeling motivated and empowered. \nMark your calendars and get ready for an unforgettable evening of networking and growth! \nClick here to register https://www.eventbrite.com/e/women-in-stem-leadership-networking-social-mixer-tickets-812300090437?aff=oddtdtcreator
URL:https://womeninstemleadership.org/events/women-in-stem-leadership-networking-social-mixer/
LOCATION:3285 Peachtree Road Northeast\, Buckhead\, Atlanta\, GA\,\, 3285 Peachtree Road Northeast\, Buckhead\, Atlanta\, GA\, 30305\, United States
ATTACH;FMTTYPE=image/jpeg:https://womeninstemleadership.org/wp-content/uploads/2024/01/WISL_Social_Mixer_Atlanta.jpg
END:VEVENT
END:VCALENDAR